BEGIN:VCALENDAR
VERSION:2.0
PRODID:-//wp-events-plugin.com//7.2.3.1//EN
TZID:Europe/Berlin
X-WR-TIMEZONE:Europe/Berlin
BEGIN:VEVENT
UID:56@musoc.de
DTSTART;TZID=Europe/Berlin:20150903T200000
DTEND;TZID=Europe/Berlin:20150903T230000
DTSTAMP:20150902T204024Z
URL:https://musoc.de/events/the-rol-gedenkkonzert/
SUMMARY:The Rol Gedenkkonzert
DESCRIPTION:Feiert mit uns das Leben und die Songs von Roland "The Rol" Han
 nig\nEin musikalischer Abend von und mit Freunden von Rol\nfür alle Musi
 kfreunde\nDie Wondering Men Philipp Schalla und Oliver Di'Iorio präsentie
 ren zusammen mit Munich Song Connection Gründer Alex Sebastian und vielen
  anderen Musikerfreunden einen Abend im Gedenken an Rol\, mit Songs von Ro
 l\, über Rol und Rol-Favorites.\n\nDer Eintritt ist frei! Um Reservierung
  wird gebeten.\n\nSpenden sind willkommen. Roland hat bis kurz vor seinem 
 Tod an einem neuen Album gearbeitet. Dieses Album war kurz vor der Fertigs
 tellung. Wir wollen ihm einen letzten Dienst erweisen\, sein Album vollen
 den und veröffentlichen. Empfohlener Spendenbetrag sind 10 EUR. Zusätzli
 ch verschenken wir je eine DVD des BurgSongFest\, das Roland und Alex Seba
 stian 2013 auf die Beine gestellt hatten und auf der er mit zwei Songs ver
 treten ist.\n\nUnten könnt auswählen\, ob ihr reservieren\, spenden\, od
 er beides wollt. Für die kostenlose Reservierung bitte die Anzahl der Pl
 ätze auswählen und "Nur reservieren" klicken.\nSpenden nehmen wir per Pa
 ypal oder am Abend entgegen.\nReservierungen beendet.
ATTACH;FMTTYPE=image/jpeg:https://i0.wp.com/musoc.de/wp-content/uploads/20
 15/07/Rol-Artikelbild.jpg?fit=1140%2C395&ssl=1
CATEGORIES:Konzert
LOCATION:Theater Drehleier\, Rosenheimer Str. 123\, München\, Bayern\, 816
 67\, Deutschland
GEO:48.12618819999999;11.598471700000005
X-APPLE-STRUCTURED-LOCATION;VALUE=URI;X-ADDRESS=Rosenheimer Str. 123\, Mün
 chen\, Bayern\, 81667\, Deutschland;X-APPLE-RADIUS=100;X-TITLE=Theater Dre
 hleier:geo:48.12618819999999,11.598471700000005
END:VEVENT
BEGIN:VTIMEZONE
TZID:Europe/Berlin
X-LIC-LOCATION:Europe/Berlin
BEGIN:DAYLIGHT
DTSTART:20150329T030000
TZOFFSETFROM:+0100
TZOFFSETTO:+0200
TZNAME:CEST
END:DAYLIGHT
END:VTIMEZONE
END:VCALENDAR