BEGIN:VCALENDAR
VERSION:2.0
PRODID:-//wp-events-plugin.com//7.2.3.1//EN
TZID:Europe/Berlin
X-WR-TIMEZONE:Europe/Berlin
BEGIN:VEVENT
UID:19@musoc.de
DTSTART;TZID=Europe/Berlin:20131003T200000
DTEND;TZID=Europe/Berlin:20131003T230000
DTSTAMP:20130912T152834Z
URL:https://musoc.de/events/musoc-open-7/
SUMMARY:MuSoC #open 7
DESCRIPTION:Die Song Slam Show im EINSTEIN Kultur\npräsentiert von alex se
 bastian und the rol\nlive - spontan - und mittendrin\nGast-Comoderator: Mi
 chi Marchner\n#guest: Les Derhos'n\n[event]#_ATTENDEESLIST[/event]\n\nAcht
 ung Künstler:\n\n	Die Registrierung für den nächsten Termin wird immer 
 erst einen Tag nach der aktuellen Show eröffnet.\n	Bitte immer Euren Kü
 nstlernamen mit angeben\, damit er hier erscheint!\n	Und bitte vor der An
 meldung erst in den #rules schmökern. Danke!\n
ATTACH;FMTTYPE=image/jpeg:https://i0.wp.com/musoc.de/wp-content/uploads/20
 13/02/kissen-titelbild.jpg?fit=1140%2C395&ssl=1
CATEGORIES:Offene Bühne,Open Mic,Open Stage,Song Slam
LOCATION:EINSTEIN Kultur\, Gewölbe 4\, Einsteinstraße 42\, München\, Bay
 ern\, 81675\, Haidhausen\, Deutschland
GEO:48.13547800000001;11.601991999999996
X-APPLE-STRUCTURED-LOCATION;VALUE=URI;X-ADDRESS=Einsteinstraße 42\, Münch
 en\, Bayern\, 81675\, Haidhausen\, Deutschland;X-APPLE-RADIUS=100;X-TITLE=
 EINSTEIN Kultur\, Gewölbe 4:geo:48.13547800000001,11.601991999999996
END:VEVENT
BEGIN:VTIMEZONE
TZID:Europe/Berlin
X-LIC-LOCATION:Europe/Berlin
BEGIN:DAYLIGHT
DTSTART:20130331T030000
TZOFFSETFROM:+0100
TZOFFSETTO:+0200
TZNAME:CEST
END:DAYLIGHT
END:VTIMEZONE
END:VCALENDAR