BEGIN:VCALENDAR
VERSION:2.0
PRODID:-//wp-events-plugin.com//7.2.3.1//EN
TZID:Europe/Berlin
X-WR-TIMEZONE:Europe/Berlin
BEGIN:VEVENT
UID:59@musoc.de
DTSTART;TZID=Europe/Berlin:20160308T200000
DTEND;TZID=Europe/Berlin:20160308T230000
DTSTAMP:20151113T200035Z
URL:https://musoc.de/events/musoc-open-28/
SUMMARY:MuSoC #open 28
DESCRIPTION:Die Song Slam Show\npräsentiert von alex sebastian &amp\; Mich
 ael Bohlmann\n[event]#_ATTENDEESLIST[/event]\n\nAchtung Künstler:\n\n	Die
  Künstleranmeldung wird jeweils zwei Monate vorher geöffnet.\n	Bitte im
 mer Euren Künstlernamen mit angeben\, damit er hier erscheint!\n	Und bit
 te vor der Anmeldung erst in den #rules schmökern. Mit deiner Künstler
 -Reservierung akzeptierst du die dort beschriebenen Teilnahmebedingungen. 
 Danke!\n\nDer Vorverkauf schließt am Vorabend der Veranstaltung um 17:00 
 Uhr.
ATTACH;FMTTYPE=image/jpeg:https://i0.wp.com/musoc.de/wp-content/uploads/20
 14/03/2014-location-wechsel-Artikelbild.jpg?fit=1140%2C395&ssl=1
CATEGORIES:Offene Bühne,Open Mic,Open Stage,Song Slam
LOCATION:Theater Drehleier\, Rosenheimer Str. 123\, München\, Bayern\, 816
 67\, Deutschland
GEO:48.12618819999999;11.598471700000005
X-APPLE-STRUCTURED-LOCATION;VALUE=URI;X-ADDRESS=Rosenheimer Str. 123\, Mün
 chen\, Bayern\, 81667\, Deutschland;X-APPLE-RADIUS=100;X-TITLE=Theater Dre
 hleier:geo:48.12618819999999,11.598471700000005
END:VEVENT
BEGIN:VTIMEZONE
TZID:Europe/Berlin
X-LIC-LOCATION:Europe/Berlin
BEGIN:STANDARD
DTSTART:20151025T020000
TZOFFSETFROM:+0200
TZOFFSETTO:+0100
TZNAME:CET
END:STANDARD
END:VTIMEZONE
END:VCALENDAR