BEGIN:VCALENDAR
VERSION:2.0
PRODID:-//wp-events-plugin.com//7.2.3.1//EN
TZID:Europe/Berlin
X-WR-TIMEZONE:Europe/Berlin
BEGIN:VEVENT
UID:25@musoc.de
DTSTART;TZID=Europe/Berlin:20140306T200000
DTEND;TZID=Europe/Berlin:20140306T230000
DTSTAMP:20140101T160140Z
URL:https://musoc.de/events/musoc-open-11/
SUMMARY:MuSoC #open 11
DESCRIPTION:Die Song Slam Show im EINSTEIN Kultur\npräsentiert von alex se
 bastian und the rol\nlive - spontan - und mittendrin\n[event]#_ATTENDEESLI
 ST[/event]\n\nAchtung Künstler:\n\n	Die Registrierung für den nächsten 
 Termin wird immer erst einen Tag nach der aktuellen Show eröffnet.\n	Bitt
 e immer Euren Künstlernamen mit angeben\, damit er hier erscheint!\n	Un
 d bitte vor der Anmeldung erst in den #rules schmökern. Danke!\n\nDer V
 orverkauf schließt am Vorabend der Veranstaltung um 17:00 Uhr.
ATTACH;FMTTYPE=image/jpeg:https://i0.wp.com/musoc.de/wp-content/uploads/20
 13/02/kissen-titelbild.jpg?fit=1140%2C395&ssl=1
CATEGORIES:Offene Bühne,Open Mic,Open Stage,Song Slam
LOCATION:EINSTEIN Kultur\, Gewölbe 4\, Einsteinstraße 42\, München\, Bay
 ern\, 81675\, Haidhausen\, Deutschland
GEO:48.13547800000001;11.601991999999996
X-APPLE-STRUCTURED-LOCATION;VALUE=URI;X-ADDRESS=Einsteinstraße 42\, Münch
 en\, Bayern\, 81675\, Haidhausen\, Deutschland;X-APPLE-RADIUS=100;X-TITLE=
 EINSTEIN Kultur\, Gewölbe 4:geo:48.13547800000001,11.601991999999996
END:VEVENT
BEGIN:VTIMEZONE
TZID:Europe/Berlin
X-LIC-LOCATION:Europe/Berlin
BEGIN:STANDARD
DTSTART:20131027T020000
TZOFFSETFROM:+0200
TZOFFSETTO:+0100
TZNAME:CET
END:STANDARD
END:VTIMEZONE
END:VCALENDAR